BEGIN:VCALENDAR
VERSION:2.0
PRODID:-//L&#039;information du Globe, la Culture du monde et ses richesses - ECPv6.10.1.1//NONSGML v1.0//EN
CALSCALE:GREGORIAN
METHOD:PUBLISH
X-WR-CALNAME:L&#039;information du Globe, la Culture du monde et ses richesses
X-ORIGINAL-URL:https://globeculture.info
X-WR-CALDESC:Évènements pour L&#039;information du Globe, la Culture du monde et ses richesses
REFRESH-INTERVAL;VALUE=DURATION:PT1H
X-Robots-Tag:noindex
X-PUBLISHED-TTL:PT1H
BEGIN:VTIMEZONE
TZID:UTC
BEGIN:STANDARD
TZOFFSETFROM:+0000
TZOFFSETTO:+0000
TZNAME:UTC
DTSTART:20240101T000000
END:STANDARD
END:VTIMEZONE
BEGIN:VEVENT
DTSTART;TZID=UTC:20240621T000000
DTEND;TZID=UTC:20240621T235959
DTSTAMP:20260422T115750
CREATED:20240306T221502Z
LAST-MODIFIED:20240306T221502Z
UID:762-1718928000-1719014399@globeculture.info
SUMMARY:Fête de la musi'cologie
DESCRIPTION:Le 21 juin\, c’est la Fête de la Musique\, une journée dédiée à la célébration de la musique sous toutes ses formes. Cette année\, nous mettons l’accent sur une approche écologique de cet événement emblématique (quarante deux ans déjà). Nous vous invitons à participer à une soirée acoustique\, une soirée intimiste où la musique résonnera dans le respect de l’autre\, mais surtout du Vivant. \nEn harmonie avec l’environnement et dans le souci de préserver notre planète\, nous choisissons de privilégier une ambiance chaleureuse et conviviale. Cette soirée se veut une expérience authentique\, où la musique et la nature se rejoignent dans une parfaite harmonie. \nÀ l’image des autres événements que nous avons célébrés tout au long du mois de juin pour cette première édition du #GCNmonth\, cette soirée est une invitation à prendre conscience de notre impact sur la planète et à adopter des comportements respectueux de l’environnement. C’est dans la simplicité et l’authenticité que nous trouvons la beauté de la musique\, et c’est dans le respect de la nature que nous trouvons l’inspiration pour créer des moments uniques et mémorables. \nRejoignez-nous pour une soirée placée sous le signe de la musique et de l’écologie\, où chaque note résonnera avec douceur et où chaque geste comptera pour préserver notre Terre.
URL:https://globeculture.info/event/fete_de_la-_musique/
CATEGORIES:Concert
ATTACH;FMTTYPE=image/png:https://globeculture.info/wp-content/uploads/2024/03/Calendrier-2.png
END:VEVENT
END:VCALENDAR